BEGIN:VCALENDAR
PRODID:-//github.com/rianjs/ical.net//NONSGML ical.net 4.0//EN
VERSION:2.0
BEGIN:VEVENT
DESCRIPTION:Details:\nhttps://bbyo.org/bbyo-near-you/regions/north-florida
 -region/naples-teens-west-coast-best-coast-mm16\n\nSummary:\nJoin Jewish 
 Teens from Naples\, Sarasota\, and Tampa for a day of fun in the sun at S
 iesta Key Beach in Sarasota! There will be games\, a sand castle building
  contest (with a prize)\, and food.
DTEND:20160501T193000
DTSTAMP:20260426T030231Z
DTSTART:20160501T123000
LOCATION:Siesta Key Beach
SEQUENCE:0
SUMMARY:NAPLES TEENS - West Coast Best Coast MM16
UID:4efa8996-71e0-4814-9807-847a828da19d
END:VEVENT
END:VCALENDAR
