BEGIN:VCALENDAR
PRODID:-//github.com/rianjs/ical.net//NONSGML ical.net 4.0//EN
VERSION:2.0
BEGIN:VEVENT
DESCRIPTION:Details:\nhttps://bbyo.org/bbyo-near-you/regions/north-texas-o
 klahoma-region/dallas-council-chapter-presidents-meeting\n\nSummary:\nDal
 las Council meeting for chapter presidents.  Room 208.
DTEND;VALUE=DATE:20060917
DTSTAMP:20260421T223736Z
DTSTART:20060917T160000
LOCATION:JCC of Dallas
SEQUENCE:0
SUMMARY:Dallas Council Chapter Presidents Meeting
UID:a7406876-1aed-4356-9af8-fd3686d4cf5a
END:VEVENT
END:VCALENDAR
