BEGIN:VCALENDAR
PRODID:-//github.com/rianjs/ical.net//NONSGML ical.net 4.0//EN
VERSION:2.0
BEGIN:VEVENT
DESCRIPTION:Details:\nhttps://bbyo.org/bbyo-near-you/regions/pacific-weste
 rn-region/pwr-s-azaa-bbgg-competition\n\nSummary:\nWelcome to the AZAA/BB
 GG athletic games of PWR led by your programming chairs\, Zoe Green and S
 ophie Glazer\, and steerers Tanner Robart and Ezra Cohen. This will be ou
 r first in person event
DTEND:20210516T170000
DTSTAMP:20260421T141733Z
DTSTART:20210516T130000
LOCATION:Griffith Park
SEQUENCE:0
SUMMARY:PWR's AZAA/BBGG competition
UID:0d6dea1b-c40c-4184-a40f-031395c7421c
END:VEVENT
END:VCALENDAR
