BEGIN:VCALENDAR
PRODID:-//github.com/rianjs/ical.net//NONSGML ical.net 4.0//EN
VERSION:2.0
BEGIN:VEVENT
DESCRIPTION:Details:\nhttps://bbyo.org/bbyo-near-you/regions/mid-america-r
 egion-kansas-city-council/aza-calling-party\n\nSummary:\nMAR Alephs - Let
 's get bring some new members into the brotherhood!
DTEND:20201206T210000
DTSTAMP:20260421T163614Z
DTSTART:20201206T200000
LOCATION:
SEQUENCE:0
SUMMARY:AZA Calling Party
UID:07e68866-9089-4285-8bc1-a48606e7992d
END:VEVENT
END:VCALENDAR
