BEGIN:VCALENDAR
PRODID:-//github.com/rianjs/ical.net//NONSGML ical.net 4.0//EN
VERSION:2.0
BEGIN:VEVENT
DESCRIPTION:Details:\nhttps://bbyo.org/bbyo-near-you/regions/greater-jerse
 y-region/gjhrr-leadership-is-for-everyone-(life)-convention\n\nSummary:\n
 Please join us for our Leadership is for Everyone (LIFE) convention on Ma
 y 17-19 in Wayne. Join us for a weekend of inspirational senior speeches\
 , fun programs\, and amazing memories with your friends!!! This conventio
 n is a great opportunity to learn how to become a leader in your chapter\
 , region\, and community. The convention cost is $300. Busing will only b
 e provided from Central Council (Marlboro and Clark). Please note the bus
  can only be provided if parents volunteer to chaperone the buses. Regist
 ration closes May 1st at 9:00 pm EST. Only 160 spots are available for th
 is convention.\n\nPlease be aware\, that as our policy has always been\, 
 there will be four people to a room\, with two teens sharing a bed.  Shou
 ld you be more comfortable with a sleeping bag to use on the bed\, we inv
 ite you to do so. \n\nAny questions about convention should be directed t
 o Amy Gerson (agerson@bbyo.org)\, Ali Leitner (aleitner@bbyo.org)\, or Ju
 di Youngman (jyoungman@bbyo.org).\n\nRefunds are available until April 20
 th. Please note all refunds are subject to a $36 administrative fee. Afte
 r April 20th\, no refunds will be given.\n\nScholarship applications are 
 available until April 15th. Please e-mail Judi Youngman (jyoungman@bbyo.o
 rg) for an application.
DTEND:20190519T140000
DTSTAMP:20260423T200924Z
DTSTART:20190517T180000
LOCATION:Wayne New Jersey
SEQUENCE:0
SUMMARY:GJHRR Leadership is for Everyone (LIFE) Convention
UID:4b21fd2e-1a11-4286-a5d8-66e16c441e8a
END:VEVENT
END:VCALENDAR
