BEGIN:VCALENDAR
PRODID:-//github.com/rianjs/ical.net//NONSGML ical.net 4.0//EN
VERSION:2.0
BEGIN:VEVENT
DESCRIPTION:Details:\nhttps://bbyo.org/bbyo-near-you/regions/kentucky-indi
 ana-ohio-region/kio-spring-kallah-2020\n\nSummary:\nJoin us for a weekend
  of brotherhood and sisterhood with guest speakers\, services\, sports\, 
 and a dance. We will be welcoming a class of new members\, who will srtar
 t creating life long friend
DTEND:20200308T110000
DTSTAMP:20260426T030231Z
DTSTART:20200306T180000
LOCATION:Cincinnati
SEQUENCE:0
SUMMARY:KIO Spring Kallah 2020
UID:470f526d-1f96-4a52-90f3-44f067791e0b
END:VEVENT
END:VCALENDAR
