BEGIN:VCALENDAR
PRODID:-//github.com/rianjs/ical.net//NONSGML ical.net 4.0//EN
VERSION:2.0
BEGIN:VEVENT
DESCRIPTION:Details:\nhttps://bbyo.org/bbyo-near-you/regions/michigan-regi
 on/tie-dye-masks-with-bbyo
DTEND:20200924T200000
DTSTAMP:20260425T123119Z
DTSTART:20200924T190000
LOCATION:
SEQUENCE:0
SUMMARY:Tie Dye Masks with BBYO
UID:0e6231fe-01ee-4a0e-93d1-6d352788d0ce
END:VEVENT
END:VCALENDAR
