BEGIN:VCALENDAR
PRODID:-//github.com/rianjs/ical.net//NONSGML ical.net 4.0//EN
VERSION:2.0
BEGIN:VEVENT
DESCRIPTION:Details:\nhttps://bbyo.org/bbyo-near-you/regions/wisconsin-reg
 ion/wi-oneg-9-14-18\n\nSummary:\nBack to SchoOneg!
DTEND:20180914T170000
DTSTAMP:20260424T094157Z
DTSTART:20180914T143000
LOCATION:BBYO Offices
SEQUENCE:0
SUMMARY:WI - Oneg - 9.14.18
UID:be3cda23-2d94-42ef-9fc6-940a2731f950
END:VEVENT
END:VCALENDAR
