BEGIN:VCALENDAR
PRODID:-//github.com/rianjs/ical.net//NONSGML ical.net 4.0//EN
VERSION:2.0
BEGIN:VEVENT
DESCRIPTION:Details:\nhttps://bbyo.org/bbyo-near-you/regions/new-england-r
 egion/ner-leadership-launch
DTEND:20220501T153000
DTSTAMP:20260425T235513Z
DTSTART:20220501T140000
LOCATION:Temple Emanuel Newton
SEQUENCE:0
SUMMARY:NER Leadership Launch
UID:f1cef067-3863-48d4-830e-a1c7b4113d77
END:VEVENT
END:VCALENDAR
