BEGIN:VCALENDAR
PRODID:-//github.com/rianjs/ical.net//NONSGML ical.net 4.0//EN
VERSION:2.0
BEGIN:VEVENT
DESCRIPTION:Details:\nhttps://bbyo.org/bbyo-near-you/regions/north-texas-o
 klahoma-region/nto-ic-stand-up-if-you-see-something\,-say-somethin\n\nSum
 mary:\nNTO is excited to partner with Friendship Circle of Dallas to host
  the Gelt Charitable Foundation in a suicide-prevention training. This pr
 ogram is a local moment that is part of BBYO's Inte
DTEND:20210214T180000
DTSTAMP:20260422T202633Z
DTSTART:20210214T170000
LOCATION:Zoom
SEQUENCE:0
SUMMARY:NTO IC Stand UP: If You See Something\, Say Something
UID:c5fc8892-ff7e-4207-a741-fd79b1af2402
END:VEVENT
END:VCALENDAR
