BEGIN:VCALENDAR
PRODID:-//github.com/rianjs/ical.net//NONSGML ical.net 4.0//EN
VERSION:2.0
BEGIN:VEVENT
DESCRIPTION:Details:\nhttps://bbyo.org/bbyo-near-you/regions/delta-region/
 kallah-2006\n\nSummary:\nRegional Kallah kicks off our programming year i
 n Cotton States\, and focuses on Judaic and Israeli topics. Any member in
  good standing in grades 10-12 is eligible to attend. Contact your Cit
DTEND:20060903T110000
DTSTAMP:20260423T132417Z
DTSTART:20060901T160000
LOCATION:Camp Hillmont
SEQUENCE:0
SUMMARY:Kallah 2006
UID:9f7027d4-b2c3-4009-94ba-dc7b024c8db8
END:VEVENT
END:VCALENDAR
