BEGIN:VCALENDAR
PRODID:-//github.com/rianjs/ical.net//NONSGML ical.net 4.0//EN
VERSION:2.0
BEGIN:VEVENT
DESCRIPTION:Details:\nhttps://bbyo.org/bbyo-near-you/regions/manhattan-reg
 ion/fall-fest-bbyo-manhattan-s-yacht-party\n\nSummary:\nOur yacht is sold
  out for November 17th! But we might be able to get a bigger yacht!\n\nIn
  order to secure that bigger yacht -- and open up Fall Fest to everyone w
 ho wants to come -- we need 6
DTEND:20181117T230000
DTSTAMP:20260422T221613Z
DTSTART:20181117T190000
LOCATION:New York New York
SEQUENCE:0
SUMMARY:Fall Fest: BBYO Manhattan's Yacht Party
UID:0da58708-2839-480b-8923-2190b932e731
END:VEVENT
END:VCALENDAR
