BEGIN:VCALENDAR
PRODID:-//github.com/rianjs/ical.net//NONSGML ical.net 4.0//EN
VERSION:2.0
BEGIN:VEVENT
DESCRIPTION:Details:\nhttps://bbyo.org/bbyo-near-you/regions/liberty-regio
 n/liberty-region-spring-fling-convention\n\nSummary:\nJoin us at Spring F
 ling 2019 for 3 packed days of:\n\n\n	Presidential State of the Region Ad
 dresses\n	Chapter and Individual Awards\n	An innovative and engaging Shab
 bat experience including multi
DTEND:20190519T150000
DTSTAMP:20260421T010657Z
DTSTART:20190517T170000
LOCATION:Lakewood Pennsylvania
SEQUENCE:0
SUMMARY:Liberty Region Spring Fling Convention
UID:fa64dfe0-6b6e-4c91-b26a-f721f82677e8
END:VEVENT
END:VCALENDAR
