BEGIN:VCALENDAR
PRODID:-//github.com/rianjs/ical.net//NONSGML ical.net 4.0//EN
VERSION:2.0
BEGIN:VEVENT
DESCRIPTION:Details:\nhttps://bbyo.org/bbyo-near-you/regions/wisconsin-reg
 ion/wi-oneg-4-28-23
DTEND:20230428T163000
DTSTAMP:20260424T215449Z
DTSTART:20230428T150000
LOCATION:BBYO Offices
SEQUENCE:0
SUMMARY:WI - Oneg 4.28.23
UID:33ae2e7d-d8fe-42de-ba0a-e7655da3e4b6
END:VEVENT
END:VCALENDAR
