BEGIN:VCALENDAR
PRODID:-//github.com/rianjs/ical.net//NONSGML ical.net 4.0//EN
VERSION:2.0
BEGIN:VEVENT
DESCRIPTION:Details:\nhttps://bbyo.org/bbyo-near-you/regions/lonestar-regi
 on/houston-ic-2020-registration-night-dinner!\n\nSummary:\nCOME ENJOY A D
 ELICIOUS DINNER WITH FRIENDS AND REGISTER FOR #AZABBGIC2020! ***BRING A C
 REDIT CARD AND A COMPUTER TO REGISTER FOR IC 2020 AT 7PM CT! ***
DTEND:20190926T200000
DTSTAMP:20260423T042654Z
DTSTART:20190926T183000
LOCATION:Houston Texas
SEQUENCE:0
SUMMARY:Houston IC 2020 Registration Night Dinner!
UID:03da11b1-d146-4f7e-8cc8-881cccc7fb9f
END:VEVENT
END:VCALENDAR
