BEGIN:VCALENDAR
PRODID:-//github.com/rianjs/ical.net//NONSGML ical.net 4.0//EN
VERSION:2.0
BEGIN:VEVENT
DESCRIPTION:Details:\nhttps://bbyo.org/bbyo-near-you/regions/greater-jerse
 y-region/gjhrr-lower-east-side-walking-food-eldridge-street\n\nSummary:\n
 Join your friends of GJHRR for a day filled with food and history.  On th
 is guided food tour of the Lower East Side\,  you'll visit several unique
  eateries and restaurants. Experience a number of tastes unique to this h
 istorical neighborhood in Manhattan\, including famous authentic delis\, 
 bakeries\, traditional appetizing stores and more! \nOur final stop on th
 is exciting tour will be the Eldridge Street Synagogue Museum where we wi
 ll have the opportunity to learn about Jewish history and this hidden gem
  within Lower Manhattan during an exciting private tour.\nThis signup is 
 for Central Council only. See Northern Council signups for the Livingston
  and Paramus bus stop!\nMarlboro Bus Departs at 9:30am\nClark Bus Departs
  10:15am\nWalking tour begins at 12pm.  Museum tour ends at approximately
  4pm and buses will begin their return back to NJ. Travel time will be de
 termined based on traffic.  \n\n
DTEND:20181108T160000
DTSTAMP:20260421T083937Z
DTSTART:20181108T120000
LOCATION:New York New York
SEQUENCE:0
SUMMARY:GJHRR Lower East Side Walking Food & Eldridge Street Museum Tour (
 Central Council Bus)
UID:fe3ad5ce-e9ac-43a1-9fe7-3427cbe8902f
END:VEVENT
END:VCALENDAR
