BEGIN:VCALENDAR
PRODID:-//github.com/rianjs/ical.net//NONSGML ical.net 4.0//EN
VERSION:2.0
BEGIN:VEVENT
DESCRIPTION:Details:\nhttps://bbyo.org/bbyo-near-you/regions/mountain-regi
 on/asu-hillel-purim-shabbat
DTEND:20240322T193000
DTSTAMP:20260421T094039Z
DTSTART:20240322T163000
LOCATION:Tempe Arizona
SEQUENCE:0
SUMMARY:ASU Hillel Purim Shabbat
UID:05f90f4d-c799-4c2a-824f-115f75da3c02
END:VEVENT
END:VCALENDAR
