BEGIN:VCALENDAR
PRODID:-//github.com/rianjs/ical.net//NONSGML ical.net 4.0//EN
VERSION:2.0
BEGIN:VEVENT
DESCRIPTION:Details:\nhttps://bbyo.org/bbyo-near-you/regions/rocky-mountai
 n-region/rmr-denver-rush-kickoff
DTEND:20220123T203000
DTSTAMP:20260424T062440Z
DTSTART:20220123T183000
LOCATION:Top Golf Centennial
SEQUENCE:0
SUMMARY:RMR Denver Rush Kickoff
UID:56dc49d0-7332-4af2-a1b1-0a87594b496b
END:VEVENT
END:VCALENDAR
