BEGIN:VCALENDAR
PRODID:-//github.com/rianjs/ical.net//NONSGML ical.net 4.0//EN
VERSION:2.0
BEGIN:VEVENT
DESCRIPTION:Details:\nhttps://bbyo.org/bbyo-near-you/regions/lake-ontario-
 region/holocaust-education-week\n\nSummary:\nFor more information please 
 contact info@bbyo.ca
DTEND:20191106T200000
DTSTAMP:20260422T035259Z
DTSTART:20191106T183000
LOCATION:Schwartz/Reisman Centre
SEQUENCE:0
SUMMARY:Holocaust Education Week
UID:e952ee82-6c00-4924-91a4-b680a1737a1a
END:VEVENT
END:VCALENDAR
