BEGIN:VCALENDAR
PRODID:-//github.com/rianjs/ical.net//NONSGML ical.net 4.0//EN
VERSION:2.0
BEGIN:VEVENT
DESCRIPTION:Details:\nhttps://bbyo.org/bbyo-near-you/regions/ohio-northern
 -region/onr-rush-fall\n\nSummary:\nStop by\, hang out\, and get to know e
 ach chapter\, and then pick the one that's right for you.
DTEND:20180927T200000
DTSTAMP:20260421T222424Z
DTSTART:20180927T190000
LOCATION:Beachwood Ohio
SEQUENCE:0
SUMMARY:ONR Rush - Fall
UID:877805af-2574-406d-9a1f-e8a438798832
END:VEVENT
END:VCALENDAR
