BEGIN:VCALENDAR
PRODID:-//github.com/rianjs/ical.net//NONSGML ical.net 4.0//EN
VERSION:2.0
BEGIN:VEVENT
DESCRIPTION:Details:\nhttps://bbyo.org/bbyo-near-you/regions/mid-america-r
 egion-st-louis-council/weekly-chapter-meetings-(5)
DTEND:20220315T200000
DTSTAMP:20260421T043154Z
DTSTART:20220315T190000
LOCATION:Chesterfield JCC
SEQUENCE:0
SUMMARY:Weekly Chapter Meetings
UID:953d3c7d-3f91-4f2e-b4cb-172672ea0739
END:VEVENT
END:VCALENDAR
