BEGIN:VCALENDAR
PRODID:-//github.com/rianjs/ical.net//NONSGML ical.net 4.0//EN
VERSION:2.0
BEGIN:VEVENT
DESCRIPTION:Details:\nhttps://bbyo.org/bbyo-near-you/regions/great-midwest
 -region/fall-kickoff-yacht-party\n\nSummary:\nJoin over 400 Jewish teens 
 for a night of cruising\, schmoozing\, and grooving! There will be a buff
 et dinner\, dueling DJs\, dancing\, a photo booth\, games\, and more! Tra
 nsportation available fr
DTEND:20180916T210000
DTSTAMP:20260425T183358Z
DTSTART:20180916T173000
LOCATION:Chicago Illinois
SEQUENCE:0
SUMMARY:Fall Kickoff Yacht Party
UID:747944dc-cd13-4d8e-ab9f-c188deb4c222
END:VEVENT
END:VCALENDAR
