BEGIN:VCALENDAR
PRODID:-//github.com/rianjs/ical.net//NONSGML ical.net 4.0//EN
VERSION:2.0
BEGIN:VEVENT
DESCRIPTION:Details:\nhttps://bbyo.org/bbyo-near-you/regions/eastern-regio
 n/raleigh-bus-nmw
DTEND;VALUE=DATE:20211024
DTSTAMP:20260423T042859Z
DTSTART;VALUE=DATE:20211022
LOCATION:
SEQUENCE:0
SUMMARY:Raleigh Bus - NMW
UID:49970a77-8d48-4b2e-a686-ea470c88110f
END:VEVENT
END:VCALENDAR
