BEGIN:VCALENDAR
PRODID:-//github.com/rianjs/ical.net//NONSGML ical.net 4.0//EN
VERSION:2.0
BEGIN:VEVENT
DESCRIPTION:Details:\nhttps://bbyo.org/bbyo-near-you/regions/manhattan-reg
 ion/winter-regional-leadership-training-institute-(rlt
DTEND:20220130T173000
DTSTAMP:20260420T162553Z
DTSTART:20220130T100000
LOCATION:Virtual
SEQUENCE:0
SUMMARY:Winter Regional Leadership Training Institute (RLTI): Manhattan 20
 22
UID:dd294d05-0daf-47f5-9652-11013a465d7e
END:VEVENT
END:VCALENDAR
