BEGIN:VCALENDAR
PRODID:-//github.com/rianjs/ical.net//NONSGML ical.net 4.0//EN
VERSION:2.0
BEGIN:VEVENT
DESCRIPTION:Details:\nhttps://bbyo.org/bbyo-near-you/regions/lonestar-regi
 on/taste-of-bbyo-bbg-is-spa-tacular!\n\nSummary:\nCome join Malev BBG and
  Barnston BBG for a relaxing afternoon with friends. We are transforming 
 the Merfish into a spa - with yoga\, salt scrubs\, manicures\, and lots o
 f fun! \nRegister for BB
DTEND:20160403T153000
DTSTAMP:20260423T002129Z
DTSTART:20160403T133000
LOCATION:Merfish Teen Center
SEQUENCE:0
SUMMARY:Taste of BBYO: BBG is Spa-Tacular!
UID:2d0111fc-3084-4626-991b-70943ac4b04e
END:VEVENT
END:VCALENDAR
