BEGIN:VCALENDAR
PRODID:-//github.com/rianjs/ical.net//NONSGML ical.net 4.0//EN
VERSION:2.0
BEGIN:VEVENT
DESCRIPTION:Details:\nhttps://bbyo.org/bbyo-near-you/regions/northern-regi
 on-east-baltimore-council/bbyo-nre-baltimore-council-chapter-xxs-winter-s
 pri
DTEND:20180207T000100
DTSTAMP:20260425T182956Z
DTSTART;VALUE=DATE:20180107
LOCATION:
SEQUENCE:0
SUMMARY:BBYO NRE Baltimore Council Chapter XXs WInter/Spring Term
UID:b8bfe77e-ea4f-44fc-99f5-89cb4fa5be4c
END:VEVENT
END:VCALENDAR
