BEGIN:VCALENDAR
PRODID:-//github.com/rianjs/ical.net//NONSGML ical.net 4.0//EN
VERSION:2.0
BEGIN:VEVENT
DESCRIPTION:Details:\nhttps://bbyo.org/bbyo-near-you/regions/northern-regi
 on-east-northern-virginia-council/passover-(no-programming)-(office-close
 d)
DTEND:20240430T235900
DTSTAMP:20260421T073053Z
DTSTART;VALUE=DATE:20240423
LOCATION:
SEQUENCE:0
SUMMARY:Passover (No Programming) (Office Closed)
UID:54c7cf85-f2c5-4cdd-8cab-5cf44090e737
END:VEVENT
END:VCALENDAR
