BEGIN:VCALENDAR
PRODID:-//github.com/rianjs/ical.net//NONSGML ical.net 4.0//EN
VERSION:2.0
BEGIN:VEVENT
DESCRIPTION:Details:\nhttps://bbyo.org/bbyo-near-you/regions/michigan-regi
 on/hatmadah/hatmadah-@-launch
DTEND:20230521T180000
DTSTAMP:20260420T090929Z
DTSTART:20230521T160000
LOCATION:Ann Arbor Michigan
SEQUENCE:0
SUMMARY:Hatmadah @ Launch
UID:ef32da70-908a-4eb3-b136-8f0b385a42ed
END:VEVENT
END:VCALENDAR
