BEGIN:VCALENDAR
PRODID:-//github.com/rianjs/ical.net//NONSGML ical.net 4.0//EN
VERSION:2.0
BEGIN:VEVENT
DESCRIPTION:Details:\nhttps://bbyo.org/bbyo-near-you/regions/greater-jerse
 y-region/gjhrr-northern-council-aza-shabbat-5000\n\nSummary:\nCome to Nor
 thern Council AZA Shabbat 2015 for a night you won't forget! This year's 
 theme is A Shabbat to Remember and we have a great program planned for yo
 u all. You do not need to be a me
DTEND:20151113T213000
DTSTAMP:20260421T223738Z
DTSTART:20151113T193000
LOCATION:Glen Rock Jewish Center
SEQUENCE:0
SUMMARY:GJHRR Northern Council AZA Shabbat 5000
UID:376dab2b-4766-4d4f-967f-358f982df7c6
END:VEVENT
END:VCALENDAR
