BEGIN:VCALENDAR
PRODID:-//github.com/rianjs/ical.net//NONSGML ical.net 4.0//EN
VERSION:2.0
BEGIN:VEVENT
DESCRIPTION:Details:\nhttps://bbyo.org/bbyo-near-you/regions/south-jersey-
 region/sjr-rlti-2015-(pc3000)\n\nSummary:\nRLTI is our first convention o
 f the year! \n\nRLTI will be filled with BBGs\, AZAs\, bonding\, fun\, le
 arning opportunities and serve as a time to grow as leaders. We will have
  a fantastic three
DTEND:20151011T123000
DTSTAMP:20260419T190417Z
DTSTART:20151009T163000
LOCATION:Camp Ockanickon
SEQUENCE:0
SUMMARY:SJR- RLTI 2015- (PC3000)
UID:5b996556-c151-4b27-9885-fd1845745626
END:VEVENT
END:VCALENDAR
