BEGIN:VCALENDAR
PRODID:-//github.com/rianjs/ical.net//NONSGML ical.net 4.0//EN
VERSION:2.0
BEGIN:VEVENT
DESCRIPTION:Details:\nhttps://bbyo.org/bbyo-near-you/regions/liberty-regio
 n/liberty-s-12th-and-13th-regional-board-retreat
DTEND:20240824T093000
DTSTAMP:20260421T084058Z
DTSTART:20240822T170000
LOCATION:Long Pond\, PA
SEQUENCE:0
SUMMARY:Liberty's 12th and 13th Regional Board Retreat
UID:969632e9-c8c3-4a67-8d25-16c003fe4e6b
END:VEVENT
END:VCALENDAR
