BEGIN:VCALENDAR
PRODID:-//github.com/rianjs/ical.net//NONSGML ical.net 4.0//EN
VERSION:2.0
BEGIN:VEVENT
DESCRIPTION:Details:\nhttps://bbyo.org/bbyo-near-you/regions/manhattan-reg
 ion/retreat-of-the-3rd-regional-board\n\nSummary:\n\n\n
DTEND:20190827T180000
DTSTAMP:20260425T124336Z
DTSTART:20190826T100000
LOCATION:New York New York
SEQUENCE:0
SUMMARY:Retreat of the 3rd Regional Board
UID:8a8f7051-f6d4-4c77-9752-54d8af191300
END:VEVENT
END:VCALENDAR
