BEGIN:VCALENDAR
PRODID:-//github.com/rianjs/ical.net//NONSGML ical.net 4.0//EN
VERSION:2.0
BEGIN:VEVENT
DESCRIPTION:Details:\nhttps://bbyo.org/bbyo-near-you/regions/pacific-weste
 rn-region/pwr-azaa-bbgg-sports-event-and-regional-installs
DTEND:20190421T163000
DTSTAMP:20260423T002342Z
DTSTART:20190421T120000
LOCATION:Warner Center Park
SEQUENCE:0
SUMMARY:PWR AZAA/BBGG Sports Event and Regional Installs
UID:2e8e19d9-9f9a-4d1e-acce-e4c177452826
END:VEVENT
END:VCALENDAR
