BEGIN:VCALENDAR
PRODID:-//github.com/rianjs/ical.net//NONSGML ical.net 4.0//EN
VERSION:2.0
BEGIN:VEVENT
DESCRIPTION:Details:\nhttps://bbyo.org/bbyo-near-you/regions/miami-region/
 miami-region-fall-2021-kickoff
DTEND:20210911T220000
DTSTAMP:20260423T083811Z
DTSTART:20210911T190000
LOCATION:Miami Beach Florida
SEQUENCE:0
SUMMARY:Miami Region Fall 2021 Kickoff
UID:b433212c-42cd-4592-be8b-b4ada9ea9333
END:VEVENT
END:VCALENDAR
