BEGIN:VCALENDAR
PRODID:-//github.com/rianjs/ical.net//NONSGML ical.net 4.0//EN
VERSION:2.0
BEGIN:VEVENT
DESCRIPTION:Details:\nhttps://bbyo.org/bbyo-near-you/regions/northern-regi
 on-east-dc-council/d-c-council-convention-2006\n\nSummary:\nJoin us for D
 .C. Council Convention 2006: BBYO Gladiators.  Early Bird registration is
  $185 for Seniors and new members who joined after February 1\, 2006\, an
 d $260 for members who need to re
DTEND;VALUE=DATE:20060514
DTSTAMP:20260423T215232Z
DTSTART;VALUE=DATE:20060512
LOCATION:Camp Saginaw
SEQUENCE:0
SUMMARY:D.C. Council Convention 2006
UID:7e3b0c47-8f27-4519-9595-ab886a3fc782
END:VEVENT
END:VCALENDAR
