BEGIN:VCALENDAR
PRODID:-//github.com/rianjs/ical.net//NONSGML ical.net 4.0//EN
VERSION:2.0
BEGIN:VEVENT
DESCRIPTION:Details:\nhttps://bbyo.org/bbyo-near-you/regions/pacific-weste
 rn-region/pwr-pups-mini-golf-event-(sd)\n\nSummary:\nWelcome to your firs
 t stop on your BBYO journey! Now is the best time to come check us out an
 d meet other teens in your grade that are also thinking about BBYO or are
  already involved.
DTEND:20240310T140000
DTSTAMP:20260423T115126Z
DTSTART:20240310T120000
LOCATION:Del Mar California
SEQUENCE:0
SUMMARY:PWR Pups Mini Golf Event (SD)
UID:7c4637e0-59b8-4001-8f59-2bc175bc5b53
END:VEVENT
END:VCALENDAR
