BEGIN:VCALENDAR
PRODID:-//github.com/rianjs/ical.net//NONSGML ical.net 4.0//EN
VERSION:2.0
BEGIN:VEVENT
DESCRIPTION:Details:\nhttps://bbyo.org/bbyo-near-you/regions/lake-ontario-
 region/september-13-wednesday-night
DTEND:20060913T200000
DTSTAMP:20260420T230042Z
DTSTART:20060913T170000
LOCATION:BBYO Office
SEQUENCE:0
SUMMARY:September 13 Wednesday Night
UID:42eee588-dbec-465d-bed0-67268035ad2e
END:VEVENT
END:VCALENDAR
