BEGIN:VCALENDAR
PRODID:-//github.com/rianjs/ical.net//NONSGML ical.net 4.0//EN
VERSION:2.0
BEGIN:VEVENT
DESCRIPTION:Details:\nhttps://bbyo.org/bbyo-near-you/regions/mountain-regi
 on/teen-connection-kickoff
DTEND;VALUE=DATE:20060917
DTSTAMP:20260422T003717Z
DTSTART;VALUE=DATE:20060917
LOCATION:Jillian's
SEQUENCE:0
SUMMARY:Teen Connection Kickoff
UID:db0da7aa-0e3c-4ddd-bbfb-1ea0b36cc915
END:VEVENT
END:VCALENDAR
