BEGIN:VCALENDAR
PRODID:-//github.com/rianjs/ical.net//NONSGML ical.net 4.0//EN
VERSION:2.0
BEGIN:VEVENT
DESCRIPTION:Details:\nhttps://bbyo.org/bbyo-near-you/regions/big-apple-reg
 ion/big-apple-regional-stand-up-for-ic-2021\n\nSummary:\nThroughout IC we
 ekend\, each region\, community\, or country will host a BBYO Stand UP pr
 oject to support a cause\, charity\, or philanthropy in their local commu
 nity. Big Apple BBYO is partnerin
DTEND:20210214T113000
DTSTAMP:20260420T120113Z
DTSTART:20210214T103000
LOCATION:
SEQUENCE:0
SUMMARY:Big Apple Regional Stand Up for IC 2021
UID:295a8222-e876-47e6-b0eb-1ac4139931fb
END:VEVENT
END:VCALENDAR
