BEGIN:VCALENDAR
PRODID:-//github.com/rianjs/ical.net//NONSGML ical.net 4.0//EN
VERSION:2.0
BEGIN:VEVENT
DESCRIPTION:Details:\nhttps://bbyo.org/bbyo-near-you/regions/nassau-suffol
 k-region/nsr-new-member-overnight
DTEND;VALUE=DATE:20230519
DTSTAMP:20260423T200528Z
DTSTART;VALUE=DATE:20230518
LOCATION:
SEQUENCE:0
SUMMARY:NSR New Member Overnight
UID:bd709b82-103b-4c86-bded-c6c91644efa9
END:VEVENT
END:VCALENDAR
