BEGIN:VCALENDAR
PRODID:-//github.com/rianjs/ical.net//NONSGML ical.net 4.0//EN
VERSION:2.0
BEGIN:VEVENT
DESCRIPTION:Details:\nhttps://bbyo.org/bbyo-near-you/regions/north-florida
 -region/nfr-kickoff-color-war!-2015-(pc5000)\n\nSummary:\nKick off the BB
 YO year with our first ever Regional Color War! Teams will be announced o
 nline on Friday\, August 28 so you can arrive decked out in your team col
 ors at the bus stops on Sunday
DTEND:20150830T190000
DTSTAMP:20260422T143937Z
DTSTART:20150830T083000
LOCATION:Twin Lakes Park
SEQUENCE:0
SUMMARY:NFR Kickoff: COLOR WAR! 2015 (PC5000)
UID:7105c779-7806-4e5c-8fc9-3def048665d5
END:VEVENT
END:VCALENDAR
