BEGIN:VCALENDAR
PRODID:-//github.com/rianjs/ical.net//NONSGML ical.net 4.0//EN
VERSION:2.0
BEGIN:VEVENT
DESCRIPTION:Details:\nhttps://bbyo.org/bbyo-near-you/regions/greater-jerse
 y-region/northern-council-aza-25th-council-board-elections
DTEND:20230430T140000
DTSTAMP:20260425T182956Z
DTSTART:20230430T100000
LOCATION:Livingston New Jersey
SEQUENCE:0
SUMMARY:Northern Council AZA 25th Council Board Elections
UID:1e402d4e-ee28-4a6f-ac4c-7d9eef1b3948
END:VEVENT
END:VCALENDAR
