BEGIN:VCALENDAR
PRODID:-//github.com/rianjs/ical.net//NONSGML ical.net 4.0//EN
VERSION:2.0
BEGIN:VEVENT
DESCRIPTION:Details:\nhttps://bbyo.org/bbyo-near-you/regions/manhattan-reg
 ion/and-the-world-turned-upside-down-bbyo-manhattan-s-\n\nSummary:\nAnd T
 he World Turned Upside Down (Venahafoch Hu |  וְנַהֲפוֹךְ הוּא) : BBYO Ma
 nhattan's Regional Kallah \n\nJoin BBYO Manhattan Region for our first Re
 gional Kallah! It will be a convention-st
DTEND:20210314T200000
DTSTAMP:20260426T030257Z
DTSTART:20210314T100000
LOCATION:Zoom (links sent out prior to event)
SEQUENCE:0
SUMMARY:And The World Turned Upside Down: BBYO Manhattan's Regional Kallah
UID:f6ab1d20-46cb-4a0e-8c8a-faf01133ddc7
END:VEVENT
END:VCALENDAR
