BEGIN:VCALENDAR
PRODID:-//github.com/rianjs/ical.net//NONSGML ical.net 4.0//EN
VERSION:2.0
BEGIN:VEVENT
DESCRIPTION:Details:\nhttps://bbyo.org/bbyo-near-you/regions/pacific-weste
 rn-region/voice-your-vote-pwr
DTEND;VALUE=DATE:20161106
DTSTAMP:20260419T145929Z
DTSTART;VALUE=DATE:20161106
LOCATION:
SEQUENCE:0
SUMMARY:Voice Your Vote PWR
UID:78b38985-3977-48e6-be9c-b62bd395b9c4
END:VEVENT
END:VCALENDAR
