BEGIN:VCALENDAR
PRODID:-//github.com/rianjs/ical.net//NONSGML ical.net 4.0//EN
VERSION:2.0
BEGIN:VEVENT
DESCRIPTION:Details:\nhttps://bbyo.org/bbyo-near-you/regions/kentucky-indi
 ana-ohio-region/kio-azaa-bbgg-drew-corson-basketball-overnight
DTEND;VALUE=DATE:20171111
DTSTAMP:20260425T183026Z
DTSTART;VALUE=DATE:20171110
LOCATION:
SEQUENCE:0
SUMMARY:KIO AZAA/BBGG - Drew Corson Basketball Overnight
UID:ba56ca7a-7157-4c41-bb1a-e2b63d1abe81
END:VEVENT
END:VCALENDAR
