BEGIN:VCALENDAR
PRODID:-//github.com/rianjs/ical.net//NONSGML ical.net 4.0//EN
VERSION:2.0
BEGIN:VEVENT
DESCRIPTION:Details:\nhttps://bbyo.org/bbyo-near-you/regions/liberty-regio
 n/liberty-region-spring-fling-2017\n\nSummary:\nSpring Fling is an opport
 unity to be a part of the planning for the future of Liberty Region. Come
  take part in Presidential State of the Region Addresses\, End of Year Of
 ficer Reports\, Meet
DTEND:20170521T150000
DTSTAMP:20260421T163615Z
DTSTART:20170519T180000
LOCATION:Camp Kweebec
SEQUENCE:0
SUMMARY:Liberty Region Spring Fling 2017
UID:db7baaca-a856-49c8-8931-7ab43df1e8cd
END:VEVENT
END:VCALENDAR
