BEGIN:VCALENDAR
PRODID:-//github.com/rianjs/ical.net//NONSGML ical.net 4.0//EN
VERSION:2.0
BEGIN:VEVENT
DESCRIPTION:Details:\nhttps://bbyo.org/bbyo-near-you/regions/michigan-regi
 on/bbg-regional-meeting-(8)
DTEND:20231213T194500
DTSTAMP:20260422T144100Z
DTSTART:20231213T190000
LOCATION:BBYO Office & Zoom
SEQUENCE:0
SUMMARY:BBG Regional Meeting
UID:be5bb60a-ed0b-44ab-ab5b-b091b8cfd8e1
END:VEVENT
END:VCALENDAR
