BEGIN:VCALENDAR
PRODID:-//github.com/rianjs/ical.net//NONSGML ical.net 4.0//EN
VERSION:2.0
BEGIN:VEVENT
DESCRIPTION:Details:\nhttps://bbyo.org/bbyo-near-you/regions/lake-ontario-
 region/toronto-chapter-wing-night
DTEND:20061016T210000
DTSTAMP:20260422T202559Z
DTSTART:20061016T183000
LOCATION:Tickled Toad
SEQUENCE:0
SUMMARY:Toronto Chapter Wing Night
UID:c32f3e17-e2dc-4924-be7a-1532b1d067c9
END:VEVENT
END:VCALENDAR
