BEGIN:VCALENDAR
PRODID:-//github.com/rianjs/ical.net//NONSGML ical.net 4.0//EN
VERSION:2.0
BEGIN:VEVENT
DESCRIPTION:Details:\nhttps://bbyo.org/bbyo-near-you/regions/lonestar-regi
 on/ic-2023-san-antonio-roundtrip-bus\n\nSummary:\nRound Trip Bus Transpor
 tation to and from International Convention in Dallas
DTEND:20230220T150000
DTSTAMP:20260425T235138Z
DTSTART:20230216T063000
LOCATION:San Antonio Texas
SEQUENCE:0
SUMMARY:IC 2023 SAN ANTONIO Roundtrip Bus
UID:a730d9f6-cda6-43e4-8f48-9839e127ecac
END:VEVENT
END:VCALENDAR
