BEGIN:VCALENDAR
PRODID:-//github.com/rianjs/ical.net//NONSGML ical.net 4.0//EN
VERSION:2.0
BEGIN:VEVENT
DESCRIPTION:Details:\nhttps://bbyo.org/bbyo-near-you/regions/connecticut-v
 alley-region/connecticut-valley-region-fall-convention-2022-(2-
DTEND:20221113T140000
DTSTAMP:20260423T201420Z
DTSTART:20221111T160000
LOCATION:
SEQUENCE:0
SUMMARY:Connecticut Valley Region Fall Convention 2022 (2 to a room)
UID:b966f282-f9bd-4544-a15a-bb68992114c5
END:VEVENT
END:VCALENDAR
